BEGIN:VCALENDAR
VERSION:2.0
PRODID:-//Yokohama-midori Little Seniors - ECPv5.14.2.1//NONSGML v1.0//EN
CALSCALE:GREGORIAN
METHOD:PUBLISH
X-WR-CALNAME:Yokohama-midori Little Seniors
X-ORIGINAL-URL:http://www.yokohama-m.com
X-WR-CALDESC:Yokohama-midori Little Seniors のイベント
BEGIN:VTIMEZONE
TZID:Asia/Tokyo
BEGIN:STANDARD
TZOFFSETFROM:+0900
TZOFFSETTO:+0900
TZNAME:JST
DTSTART:20210101T000000
END:STANDARD
END:VTIMEZONE
BEGIN:VEVENT
DTSTART;TZID=Asia/Tokyo:20211016T070000
DTEND;TZID=Asia/Tokyo:20211016T170000
DTSTAMP:20260425T014531
CREATED:20211013T025815Z
LAST-MODIFIED:20211013T025815Z
UID:10739-1634367600-1634403600@www.yokohama-m.com
SUMMARY:【1年生】【2年生】練習
DESCRIPTION:2年生　7:15集合、7:30~練習\n1年生　7:10集合、7:30~練習\n横浜緑シニアグラウンド \n\n\n	関連
URL:http://www.yokohama-m.com/event/%e3%80%901%e5%b9%b4%e7%94%9f%e3%80%91%e3%80%902%e5%b9%b4%e7%94%9f%e3%80%91%e7%b7%b4%e7%bf%92/
LOCATION:横浜緑シニアグラウンド
CATEGORIES:通常練習
END:VEVENT
END:VCALENDAR