BEGIN:VCALENDAR
VERSION:2.0
PRODID:-//Yokohama-midori Little Seniors - ECPv5.14.2.1//NONSGML v1.0//EN
CALSCALE:GREGORIAN
METHOD:PUBLISH
X-WR-CALNAME:Yokohama-midori Little Seniors
X-ORIGINAL-URL:http://www.yokohama-m.com
X-WR-CALDESC:Yokohama-midori Little Seniors のイベント
BEGIN:VTIMEZONE
TZID:Asia/Tokyo
BEGIN:STANDARD
TZOFFSETFROM:+0900
TZOFFSETTO:+0900
TZNAME:JST
DTSTART:20220101T000000
END:STANDARD
END:VTIMEZONE
BEGIN:VEVENT
DTSTART;TZID=Asia/Tokyo:20220612T063000
DTEND;TZID=Asia/Tokyo:20220612T170000
DTSTAMP:20260421T011617
CREATED:20220623T002619Z
LAST-MODIFIED:20220623T002619Z
UID:12460-1655015400-1655053200@www.yokohama-m.com
SUMMARY:【2年生】【1年生】海老名シニア練習試合
DESCRIPTION:6：40集合 \nvs海老名シニア\n＠横浜緑シニアグランド \n\n\n	関連
URL:http://www.yokohama-m.com/event/%e3%80%902%e5%b9%b4%e7%94%9f%e3%80%91%e3%80%901%e5%b9%b4%e7%94%9f%e3%80%91%e6%b5%b7%e8%80%81%e5%90%8d%e3%82%b7%e3%83%8b%e3%82%a2%e7%b7%b4%e7%bf%92%e8%a9%a6%e5%90%88/
LOCATION:横浜緑シニアグラウンド
CATEGORIES:受入練習試合
END:VEVENT
END:VCALENDAR