BEGIN:VCALENDAR
VERSION:2.0
PRODID:-//Yokohama-midori Little Seniors - ECPv5.14.2.1//NONSGML v1.0//EN
CALSCALE:GREGORIAN
METHOD:PUBLISH
X-WR-CALNAME:Yokohama-midori Little Seniors
X-ORIGINAL-URL:http://www.yokohama-m.com
X-WR-CALDESC:Yokohama-midori Little Seniors のイベント
BEGIN:VTIMEZONE
TZID:Asia/Tokyo
BEGIN:STANDARD
TZOFFSETFROM:+0900
TZOFFSETTO:+0900
TZNAME:JST
DTSTART:20210101T000000
END:STANDARD
END:VTIMEZONE
BEGIN:VEVENT
DTSTART;TZID=Asia/Tokyo:20211204T070000
DTEND;TZID=Asia/Tokyo:20211204T170000
DTSTAMP:20260425T082408
CREATED:20211201T053209Z
LAST-MODIFIED:20211201T053209Z
UID:10962-1638601200-1638637200@www.yokohama-m.com
SUMMARY:【2年生】【1年生】練習
DESCRIPTION:2年生　6:45集合、7:00~練習、及び馬場会長杯お手伝い\n1年生　6:40集合、7:00~練習、及び馬場会長杯お手伝い \n\n\n	関連
URL:http://www.yokohama-m.com/event/%e3%80%902%e5%b9%b4%e7%94%9f%e3%80%91%e3%80%901%e5%b9%b4%e7%94%9f%e3%80%91%e7%b7%b4%e7%bf%92/
LOCATION:横浜緑シニアグラウンド
CATEGORIES:通常練習
END:VEVENT
END:VCALENDAR