BEGIN:VCALENDAR
VERSION:2.0
PRODID:-//Yokohama-midori Little Seniors - ECPv5.14.2.1//NONSGML v1.0//EN
CALSCALE:GREGORIAN
METHOD:PUBLISH
X-WR-CALNAME:Yokohama-midori Little Seniors
X-ORIGINAL-URL:http://www.yokohama-m.com
X-WR-CALDESC:Yokohama-midori Little Seniors のイベント
BEGIN:VTIMEZONE
TZID:Asia/Tokyo
BEGIN:STANDARD
TZOFFSETFROM:+0900
TZOFFSETTO:+0900
TZNAME:JST
DTSTART:20210101T000000
END:STANDARD
END:VTIMEZONE
BEGIN:VEVENT
DTSTART;TZID=Asia/Tokyo:20211103T080000
DTEND;TZID=Asia/Tokyo:20211103T170000
DTSTAMP:20260424T141458
CREATED:20211101T040750Z
LAST-MODIFIED:20211104T084505Z
UID:10843-1635926400-1635958800@www.yokohama-m.com
SUMMARY:【2年生】フューチャーズカップ争奪親善試合・その後OP戦
DESCRIPTION:2年生\n東横線日吉駅改札口前 6:10集合、6:20慶應高校日吉台グラウンドへ移動\nフューチャーズカップ終了後、横浜東金沢シニアとOP戦 \n\n\n	関連
URL:http://www.yokohama-m.com/event/%e3%80%902%e5%b9%b4%e7%94%9f%e3%80%91%e3%83%95%e3%83%a5%e3%83%bc%e3%83%81%e3%83%a3%e3%83%bc%e3%82%ba%e3%82%ab%e3%83%83%e3%83%97%e4%ba%89%e5%a5%aa%e8%a6%aa%e5%96%84%e8%a9%a6%e5%90%88-2/
LOCATION:慶應高校日吉台グラウンド
CATEGORIES:遠征試合
END:VEVENT
END:VCALENDAR