BEGIN:VCALENDAR
VERSION:2.0
PRODID:-//Yokohama-midori Little Seniors - ECPv5.14.2.1//NONSGML v1.0//EN
CALSCALE:GREGORIAN
METHOD:PUBLISH
X-WR-CALNAME:Yokohama-midori Little Seniors
X-ORIGINAL-URL:http://www.yokohama-m.com
X-WR-CALDESC:Yokohama-midori Little Seniors のイベント
BEGIN:VTIMEZONE
TZID:Asia/Tokyo
BEGIN:STANDARD
TZOFFSETFROM:+0900
TZOFFSETTO:+0900
TZNAME:JST
DTSTART:20210101T000000
END:STANDARD
END:VTIMEZONE
BEGIN:VEVENT
DTSTART;TZID=Asia/Tokyo:20211009T110000
DTEND;TZID=Asia/Tokyo:20211009T170000
DTSTAMP:20260425T020652
CREATED:20211004T012618Z
LAST-MODIFIED:20211007T021533Z
UID:10647-1633777200-1633798800@www.yokohama-m.com
SUMMARY:【2年生】支部大会：vs 神奈川綾瀬シニア
DESCRIPTION:2年生　6:20集合、6:30~練習後、試合会場へ移動\n　　　　支部長杯三回戦　vs.神奈川綾瀬シニア＠相模湖林間球場 \n\n\n	関連
URL:http://www.yokohama-m.com/event/%e3%80%902%e5%b9%b4%e7%94%9f%e3%80%91%e6%94%af%e9%83%a8%e5%a4%a7%e4%bc%9a%ef%bc%9avs-%e7%a5%9e%e5%a5%88%e5%b7%9d%e7%b6%be%e7%80%ac%e3%82%b7%e3%83%8b%e3%82%a2/
LOCATION:相模湖林間球場
CATEGORIES:公式戦,遠征試合
END:VEVENT
END:VCALENDAR