BEGIN:VCALENDAR
VERSION:2.0
PRODID:-//Yokohama-midori Little Seniors - ECPv5.14.2.1//NONSGML v1.0//EN
CALSCALE:GREGORIAN
METHOD:PUBLISH
X-WR-CALNAME:Yokohama-midori Little Seniors
X-ORIGINAL-URL:http://www.yokohama-m.com
X-WR-CALDESC:Yokohama-midori Little Seniors のイベント
BEGIN:VTIMEZONE
TZID:Asia/Tokyo
BEGIN:STANDARD
TZOFFSETFROM:+0900
TZOFFSETTO:+0900
TZNAME:JST
DTSTART:20220101T000000
END:STANDARD
END:VTIMEZONE
BEGIN:VEVENT
DTSTART;TZID=Asia/Tokyo:20220529T060000
DTEND;TZID=Asia/Tokyo:20220529T170000
DTSTAMP:20260421T032427
CREATED:20220526T112317Z
LAST-MODIFIED:20220526T112317Z
UID:12379-1653804000-1653843600@www.yokohama-m.com
SUMMARY:【2年生】2年生大会　第1回戦
DESCRIPTION:6：10　集合\nグランド練習後出発 \nＶＳ　横浜都筑シニア\n＠厚木シニアグラウンド \n11：00～第2試合 \n  \n  \n\n\n	関連
URL:http://www.yokohama-m.com/event/%e3%80%902%e5%b9%b4%e7%94%9f%e3%80%912%e5%b9%b4%e7%94%9f%e5%a4%a7%e4%bc%9a%e3%80%80%e7%ac%ac1%e5%9b%9e%e6%88%a6/
LOCATION:厚木シニアグラウンド
CATEGORIES:公式戦
END:VEVENT
END:VCALENDAR