BEGIN:VCALENDAR
VERSION:2.0
PRODID:-//Yokohama-midori Little Seniors - ECPv5.14.2.1//NONSGML v1.0//EN
CALSCALE:GREGORIAN
METHOD:PUBLISH
X-WR-CALNAME:Yokohama-midori Little Seniors
X-ORIGINAL-URL:http://www.yokohama-m.com
X-WR-CALDESC:Yokohama-midori Little Seniors のイベント
BEGIN:VTIMEZONE
TZID:Asia/Tokyo
BEGIN:STANDARD
TZOFFSETFROM:+0900
TZOFFSETTO:+0900
TZNAME:JST
DTSTART:20220101T000000
END:STANDARD
END:VTIMEZONE
BEGIN:VEVENT
DTSTART;TZID=Asia/Tokyo:20220522T070000
DTEND;TZID=Asia/Tokyo:20220522T170000
DTSTAMP:20260421T103550
CREATED:20220526T113112Z
LAST-MODIFIED:20220526T113112Z
UID:12391-1653202800-1653238800@www.yokohama-m.com
SUMMARY:【2年生B】小金井シニア練習試合
DESCRIPTION:6：50　集合　7：00サイゼリア出発 \nＶＳ　小金井シニア\n＠聖パウロ学園高校グラウンド \n\n\n	関連
URL:http://www.yokohama-m.com/event/%e3%80%902%e5%b9%b4%e7%94%9fb%e3%80%91%e5%b0%8f%e9%87%91%e4%ba%95%e3%82%b7%e3%83%8b%e3%82%a2%e7%b7%b4%e7%bf%92%e8%a9%a6%e5%90%88/
LOCATION:聖パウロ学園高校グラウンド
CATEGORIES:遠征試合
END:VEVENT
END:VCALENDAR