BEGIN:VCALENDAR
VERSION:2.0
PRODID:-//Yokohama-midori Little Seniors - ECPv5.14.2.1//NONSGML v1.0//EN
CALSCALE:GREGORIAN
METHOD:PUBLISH
X-WR-CALNAME:Yokohama-midori Little Seniors
X-ORIGINAL-URL:http://www.yokohama-m.com
X-WR-CALDESC:Yokohama-midori Little Seniors のイベント
BEGIN:VTIMEZONE
TZID:Asia/Tokyo
BEGIN:STANDARD
TZOFFSETFROM:+0900
TZOFFSETTO:+0900
TZNAME:JST
DTSTART:20210101T000000
END:STANDARD
END:VTIMEZONE
BEGIN:VEVENT
DTSTART;TZID=Asia/Tokyo:20211204T080000
DTEND;TZID=Asia/Tokyo:20211204T170000
DTSTAMP:20260425T095156
CREATED:20211201T054055Z
LAST-MODIFIED:20211201T054055Z
UID:10970-1638604800-1638637200@www.yokohama-m.com
SUMMARY:【EVENT】横浜緑リトルシニア　軟式野球大会
DESCRIPTION:横浜緑シニア主催　馬場会長杯　軟式野球大会\n毎年、小学生チームを対象に行われる大会です。\n・横浜緑リトルシニアグランド\n・東方公園グランドＡ面，Ｂ面\nを使用して行います。 \n\n\n	関連
URL:http://www.yokohama-m.com/event/%e3%80%90event%e3%80%91%e6%a8%aa%e6%b5%9c%e7%b7%91%e3%83%aa%e3%83%88%e3%83%ab%e3%82%b7%e3%83%8b%e3%82%a2%e3%80%80%e8%bb%9f%e5%bc%8f%e9%87%8e%e7%90%83%e5%a4%a7%e4%bc%9a/
LOCATION:横浜緑シニアグラウンド
END:VEVENT
END:VCALENDAR