BEGIN:VCALENDAR
VERSION:2.0
PRODID:-//Yokohama-midori Little Seniors - ECPv5.14.2.1//NONSGML v1.0//EN
CALSCALE:GREGORIAN
METHOD:PUBLISH
X-WR-CALNAME:Yokohama-midori Little Seniors
X-ORIGINAL-URL:http://www.yokohama-m.com
X-WR-CALDESC:Yokohama-midori Little Seniors のイベント
BEGIN:VTIMEZONE
TZID:Asia/Tokyo
BEGIN:STANDARD
TZOFFSETFROM:+0900
TZOFFSETTO:+0900
TZNAME:JST
DTSTART:20210101T000000
END:STANDARD
END:VTIMEZONE
BEGIN:VEVENT
DTSTART;TZID=Asia/Tokyo:20211002T070000
DTEND;TZID=Asia/Tokyo:20211002T170000
DTSTAMP:20260425T034150
CREATED:20210928T063543Z
LAST-MODIFIED:20211003T064632Z
UID:10632-1633158000-1633194000@www.yokohama-m.com
SUMMARY:【1年生】【2年生】練習
DESCRIPTION:2・1年生　7：00　集合　練習 \n\n\n	関連
URL:http://www.yokohama-m.com/event/%e7%b7%b4%e7%bf%92/
CATEGORIES:通常練習
END:VEVENT
END:VCALENDAR