BEGIN:VCALENDAR
VERSION:2.0
PRODID:-//Yokohama-midori Little Seniors - ECPv5.14.2.1//NONSGML v1.0//EN
CALSCALE:GREGORIAN
METHOD:PUBLISH
X-WR-CALNAME:Yokohama-midori Little Seniors
X-ORIGINAL-URL:http://www.yokohama-m.com
X-WR-CALDESC:Yokohama-midori Little Seniors のイベント
BEGIN:VTIMEZONE
TZID:Asia/Tokyo
BEGIN:STANDARD
TZOFFSETFROM:+0900
TZOFFSETTO:+0900
TZNAME:JST
DTSTART:20170101T000000
END:STANDARD
END:VTIMEZONE
BEGIN:VEVENT
DTSTART;VALUE=DATE:20171209
DTEND;VALUE=DATE:20171211
DTSTAMP:20260421T040242
CREATED:20171206T063242Z
LAST-MODIFIED:20171206T063757Z
UID:1323-1512777600-1512950399@www.yokohama-m.com
SUMMARY:２年生〜南関東支部役員交流会
DESCRIPTION:2年生　5：00　サイゼリア出発\n富士宮シニアグランドにて１泊遠征\n南関東支部役員交流会　富士宮，横浜青葉 \n\n\n	関連
URL:http://www.yokohama-m.com/event/%ef%bc%92%e5%b9%b4%e7%94%9f%e3%80%9c%e5%8d%97%e9%96%a2%e6%9d%b1%e6%94%af%e9%83%a8%e5%bd%b9%e5%93%a1%e4%ba%a4%e6%b5%81%e4%bc%9a/
END:VEVENT
END:VCALENDAR