BEGIN:VCALENDAR
VERSION:2.0
PRODID:-//Yokohama-midori Little Seniors - ECPv5.14.2.1//NONSGML v1.0//EN
CALSCALE:GREGORIAN
METHOD:PUBLISH
X-WR-CALNAME:Yokohama-midori Little Seniors
X-ORIGINAL-URL:http://www.yokohama-m.com
X-WR-CALDESC:Yokohama-midori Little Seniors のイベント
BEGIN:VTIMEZONE
TZID:Asia/Tokyo
BEGIN:STANDARD
TZOFFSETFROM:+0900
TZOFFSETTO:+0900
TZNAME:JST
DTSTART:20170101T000000
END:STANDARD
END:VTIMEZONE
BEGIN:VEVENT
DTSTART;TZID=Asia/Tokyo:20171216T080000
DTEND;TZID=Asia/Tokyo:20171216T190000
DTSTAMP:20260420T212249
CREATED:20171208T050119Z
LAST-MODIFIED:20171219T052245Z
UID:1354-1513411200-1513450800@www.yokohama-m.com
SUMMARY:1年生一部 沼津シニア練習試合
DESCRIPTION:５：３０サイゼリア出発\n沼津シニアグランドにて 練習試合 \n\n\n	関連
URL:http://www.yokohama-m.com/event/1%e5%b9%b4%e7%94%9f%e4%b8%80%e9%83%a8-%e6%b2%bc%e6%b4%a5%e3%82%b7%e3%83%8b%e3%82%a2%e7%b7%b4%e7%bf%92%e8%a9%a6%e5%90%88/
LOCATION:沼津シニアグランド（植田グランド） (会場)\, 植田\, 沼津市\, 静岡県\, 410-0316
END:VEVENT
END:VCALENDAR