BEGIN:VCALENDAR
VERSION:2.0
PRODID:-//Yokohama-midori Little Seniors - ECPv5.14.2.1//NONSGML v1.0//EN
CALSCALE:GREGORIAN
METHOD:PUBLISH
X-WR-CALNAME:Yokohama-midori Little Seniors
X-ORIGINAL-URL:http://www.yokohama-m.com
X-WR-CALDESC:Yokohama-midori Little Seniors のイベント
BEGIN:VTIMEZONE
TZID:Asia/Tokyo
BEGIN:STANDARD
TZOFFSETFROM:+0900
TZOFFSETTO:+0900
TZNAME:JST
DTSTART:20200101T000000
END:STANDARD
END:VTIMEZONE
BEGIN:VEVENT
DTSTART;TZID=Asia/Tokyo:20200823T070000
DTEND;TZID=Asia/Tokyo:20200823T170000
DTSTAMP:20260425T223350
CREATED:20200817T123547Z
LAST-MODIFIED:20200817T123547Z
UID:7911-1598166000-1598202000@www.yokohama-m.com
SUMMARY:1年生 / ⚾合同練習 & 練習試合⚾
DESCRIPTION:集合: 7:00\n練習：7:30 \n⚾愛川ボーイズと合同練習 & 練習試合⚾ \n◆午前：合同練習\n◆午後：練習試合 \n※横浜緑シニアグランド \n\n\n	関連
URL:http://www.yokohama-m.com/event/1%e5%b9%b4%e7%94%9f-%e2%9a%be%e5%90%88%e5%90%8c%e7%b7%b4%e7%bf%92-%e7%b7%b4%e7%bf%92%e8%a9%a6%e5%90%88%e2%9a%be/
END:VEVENT
END:VCALENDAR