BEGIN:VCALENDAR
VERSION:2.0
PRODID:-//Yokohama-midori Little Seniors - ECPv5.14.2.1//NONSGML v1.0//EN
CALSCALE:GREGORIAN
METHOD:PUBLISH
X-WR-CALNAME:Yokohama-midori Little Seniors
X-ORIGINAL-URL:http://www.yokohama-m.com
X-WR-CALDESC:Yokohama-midori Little Seniors のイベント
BEGIN:VTIMEZONE
TZID:Asia/Tokyo
BEGIN:STANDARD
TZOFFSETFROM:+0900
TZOFFSETTO:+0900
TZNAME:JST
DTSTART:20200101T000000
END:STANDARD
END:VTIMEZONE
BEGIN:VEVENT
DTSTART;TZID=Asia/Tokyo:20200905T073000
DTEND;TZID=Asia/Tokyo:20200905T170000
DTSTAMP:20260425T080225
CREATED:20200902T153823Z
LAST-MODIFIED:20200902T153823Z
UID:10569-1599291000-1599325200@www.yokohama-m.com
SUMMARY:3年生 / 自由練習
DESCRIPTION:自由練習：7:30 \n※横浜緑シニアグランド \n\n\n	関連
URL:http://www.yokohama-m.com/event/3%e5%b9%b4%e7%94%9f-%e8%87%aa%e7%94%b1%e7%b7%b4%e7%bf%92-82/
END:VEVENT
END:VCALENDAR